BEGIN:VCALENDAR
VERSION:2.0
PRODID:-//wp-events-plugin.com//7.2.2.1//EN
TZID:Europe/Berlin
X-WR-TIMEZONE:Europe/Berlin
BEGIN:VEVENT
UID:27@yogaheilraum.de
DTSTART;TZID=Europe/Berlin:20260605T000000
DTEND;TZID=Europe/Berlin:20260607T000000
DTSTAMP:20260122T082740Z
URL:https://yogaheilraum.de/veranstaltungen/heilung-durch-die-kraft-der-li
 ebe-systemische-und-mediale-aufstellungsarbeit-cosmic-healing-mediales-tra
 ining/
SUMMARY:Heilung durch die Kraft der Liebe. Aufstellungsarbeit & Cosmic Heal
 ing & Mediales Training
DESCRIPTION:Heilung durch die Kraft der Liebe\n\nSystemische &amp\; mediale
  Aufstellungsarbeit – Cosmic Healing &amp\; Mediales Training - Coaching
  für Herz und Seele\nEin Wochenendseminar für tiefgreifende Transformati
 on\nFragen\, die dein Herz bewegen:\n\n 	Wie kann ich erfüllende Beziehun
 gen leben?\n 	Wie finde ich Frieden mit meiner Herkunftsfamilie?\n 	Was is
 t meine wahre Berufung?\n 	Was ist mein nächster persönlicher Wachstumss
 chritt?\n 	Wie kann ich eine glückliche Partnerschaft gestalten?\n 	Was b
 raucht es\, um tiefgreifende Heilung zu erfahren?\n\nWenn du dir diese ode
 r ähnliche Fragen stellst\, lade ich dich herzlich zu diesem Seminar ein.
 \n\n\n\nSeminarzeiten &amp\; Ort:\nTermin: 05. – 07.06.2026 Aufstellungs
 arbeit &amp\; Cosmic Healing &amp\; mediales Training im\n\nOrt:\nHebammen
 haus\, Schloßstr. 18\, 53840 Troisdorf\n\n🗓 Zeiten:\nFreitag: 18:00 
 – 21:00 Uhr\nSamstag: 09:00 – 18:00 Uhr\nSonntag: 09:00 – 16:00 Uhr\
 n\n\n\nInhalte des Seminars:\n\n 	Systemische &amp\; mediale Aufstellungsa
 rbeit\n 	EssenzDialog® Coaching-Tools\n 	Cosmic Healing\n 	Heilyoga am Mo
 rgen\n 	mediales Training\n 	Heilarbeit\n\nDieses Seminar ist Teil der Ess
 enzDialog® Ausbildung und kann auch einzeln zur Selbsterfahrung gebucht w
 erden.\nAnmeldung &amp\; Infos:\n👉Hier kannst du dich anmelden.\n👉 W
 eitere Informationen findest Du hier.\n\n&nbsp\;\n\n\n\nEssenzDialog® Aus
 bildungen:\nWähle je nach Interesse und Tiefe deines Weges:\n\n 	EssenzDi
 alog® Coaching-Ausbildung – 5 Module\n 	EssenzDialog® Coaching &amp\; 
 Aufstellungsleiter*in-Ausbildung – 9 Module\n\nZiel der Ausbildung ist e
 s\, unbewusste Dynamiken in Familien\, Beziehungen und Organisationen sich
 tbar zu machen. Die Methode unterstützt Heilung\, persönliche Klarheit u
 nd nachhaltiges Wachstum.\n\n\n\nDieses Seminar ist ein Modul der EssenzDi
 alog®Ausbildungen und kann aber einzel gebucht werden.\nWeitere Infos zu 
 den Ausbildungen findest du hier.\nEssenzDialog®Coaching Ausbildung in 5 
 Modulen\nEssenzDialog®Coaching &amp\; Aufstellungsleiter/in Ausbildung in
  9 Modulen
ATTACH;FMTTYPE=image/jpeg:https://yogaheilraum.de/wp-content/uploads/2025/
 07/Yogaheilraum-44.png
END:VEVENT
BEGIN:VTIMEZONE
TZID:Europe/Berlin
X-LIC-LOCATION:Europe/Berlin
BEGIN:DAYLIGHT
DTSTART:20260329T030000
TZOFFSETFROM:+0100
TZOFFSETTO:+0200
TZNAME:CEST
END:DAYLIGHT
END:VTIMEZONE
END:VCALENDAR