BEGIN:VCALENDAR
VERSION:2.0
PRODID:-//wp-events-plugin.com//7.2.2.1//EN
TZID:Europe/Berlin
X-WR-TIMEZONE:Europe/Berlin
BEGIN:VEVENT
UID:30@yogaheilraum.de
DTSTART;TZID=Europe/Berlin:20260417T000000
DTEND;TZID=Europe/Berlin:20260419T000000
DTSTAMP:20260316T134802Z
URL:https://yogaheilraum.de/veranstaltungen/vision-manifestation-mediales-
 training-2/
SUMMARY:Vision – Manifestation – Mediales Training
DESCRIPTION:Vision – Manifestation - Mediales Training – Entfalte deine
  Intuition &amp\; Schöpferkraft\n\nEin tiefgehendes Seminar für Menschen
 \, die sich mit ihrer inneren Weisheit verbinden und ihre medialen Fähigk
 eiten aktivieren möchten. Finde heraus was deine Berufung und dein Seelen
 plan ist. Was ist dein nächster Schritt? Wovon träumst du? Wie möchtest
  du leben\, wenn alles möglich wäre? Erwecke deine Schöpferkraft.\nInha
 lte &amp\; Methoden:\n🔮 Intuition &amp\; Medialität\n\n 	Intuitionstra
 ining\n 	Training der Hellsinne\n 	Mediales Schreiben &amp\; Malen\n 	Read
 ings geben\n 	Arbeit mit inneren Bildern\n 	Meditation: sich in verschiede
 ne Felder eintunen\n 	Zum Kanal werden &amp\; Schöpferbewusstsein entwick
 eln\n\n🌀 Visions- &amp\; Bewusstseinsarbeit\n\n 	Lesen im Bewusstseinsf
 eld\n 	Methoden der Visionsarbeit\n 	Die Kraft der Sehnsucht\n 	Der Passio
 n Test\n 	Visionsboard &amp\; Soulcollagen\n 	Zielaufstellung &amp\; Zielb
 lockaden auflösen\n 	Das Lebensrad\n\n🗣 Kommunikation &amp\; Selbstaus
 druck\n\n 	Transparente Kommunikation\n 	Kreativer Ausdruck mit Bild &amp\
 ; Wort\n 	Verbindung von Herz\, Geist &amp\; Körper\n\n💫 Energiearbeit
  &amp\; Körperbewusstsein\n\n 	Energiearbeit zur Harmonisierung und Aktiv
 ierung\n 	Heilyoga am Morgen\n 	Achtsame Körperwahrnehmung\n\n\n\n\n✨ D
 ieses Training begleitet dich auf dem Weg zu deiner wahren Essenz\, stärk
 t deine Intuition und öffnet den Raum für innere Klarheit\, kreative Kra
 ft und spirituelle Verbindung.\n\nIch freue mich darauf\, dich auf deinem 
 Weg zu begleiten.\nMit Herz &amp\; Präsenz – für dein bewusstes Sein.\
 n\nTermin:\n\n 	17. - 19.04.2026\n\nOrt:\n\n 	Hebammenhaus Rhein-Sieg\nSch
 loßstr. 18\n53840 Troisdorf\n(Übernachtungen sind individuell zu buchen.
 )\n\nZeiten:\n\n 	Fr. 18.00 – 21.00\n 	Sa. 09.00 – 18.00\n 	So. 09.00 
 – 15.00\n\nHier kannst du dich anmelden.\n\nWeitere Informationen findes
 t Du hier.
ATTACH;FMTTYPE=image/jpeg:https://yogaheilraum.de/wp-content/uploads/2025/
 04/1-2.png
END:VEVENT
BEGIN:VTIMEZONE
TZID:Europe/Berlin
X-LIC-LOCATION:Europe/Berlin
BEGIN:DAYLIGHT
DTSTART:20260329T030000
TZOFFSETFROM:+0100
TZOFFSETTO:+0200
TZNAME:CEST
END:DAYLIGHT
END:VTIMEZONE
END:VCALENDAR