BEGIN:VCALENDAR
VERSION:2.0
PRODID:-//wp-events-plugin.com//7.2.2.1//EN
TZID:Europe/Berlin
X-WR-TIMEZONE:Europe/Berlin
BEGIN:VEVENT
UID:44@yogaheilraum.de
DTSTART;TZID=Europe/Berlin:20260414T190000
DTEND;TZID=Europe/Berlin:20260414T203000
DTSTAMP:20260122T112935Z
URL:https://yogaheilraum.de/veranstaltungen/yogakurs-ab-april-2026-online-
 ueber-zoom/
SUMMARY:Yogakurs Online über Zoom ab April 2026
DESCRIPTION:Yin Yoga Healing Online Kurs\nTermin:\nDi. 14.04. – 16.06.202
 6\n(außer am 28.04. und 05.05.2026)\nZeit: 8 x Di. 19.00 – 20.30\nKoste
 n: 120 €\nLeitung: Jeannette\nOnline über Zoom\n\nDie Stunden werden au
 fgezeichnet und stehen immer zwei Wochen zur Verfügung.\n\nHier findest d
 u alle weiteren Informationen.\nHier bitte anmelden.\nNach der Anmeldung s
 ende ich die den Zoom link zu.
ATTACH;FMTTYPE=image/jpeg:https://yogaheilraum.de/wp-content/uploads/2026/
 01/Yogaheilraum-44.png
END:VEVENT
BEGIN:VTIMEZONE
TZID:Europe/Berlin
X-LIC-LOCATION:Europe/Berlin
BEGIN:DAYLIGHT
DTSTART:20260329T030000
TZOFFSETFROM:+0100
TZOFFSETTO:+0200
TZNAME:CEST
END:DAYLIGHT
END:VTIMEZONE
END:VCALENDAR